BEGIN:VCALENDAR
VERSION:2.0
PRODID:-//SLV - ECPv5.11.0//NONSGML v1.0//EN
CALSCALE:GREGORIAN
METHOD:PUBLISH
X-WR-CALNAME:SLV
X-ORIGINAL-URL:https://slv.co.id
X-WR-CALDESC:Events for SLV
BEGIN:VTIMEZONE
TZID:Asia/Jakarta
BEGIN:STANDARD
TZOFFSETFROM:+0700
TZOFFSETTO:+0700
TZNAME:WIB
DTSTART:20260101T000000
END:STANDARD
END:VTIMEZONE
BEGIN:VEVENT
DTSTART;VALUE=DATE:20260810
DTEND;VALUE=DATE:20260816
DTSTAMP:20260422T175441
CREATED:20220204T100936Z
LAST-MODIFIED:20220204T100936Z
UID:72544-1786320000-1786838399@slv.co.id
SUMMARY:Welding Supervisor
DESCRIPTION:Menghasilkan welding supervisor yang mempunyai wawasan yang luas mengenai teknologi dan klasifikasi proses pengelasan\, pengetahuan bahan teknik\, prosedur dan kualifikasi unjuk kerja juru las dan wawasan tentang Standard pengelasan yang berlaku secara umum di dunia pengelasan.
URL:https://slv.co.id/jadwal/welding-supervisor/2026-08-10/
LOCATION:SLV\, Cilegon
CATEGORIES:BNSP,Welding
ATTACH;FMTTYPE=image/jpeg:https://slv.co.id/wp-content/uploads/2022/02/Welding-Supervisor-w964.jpg
END:VEVENT
END:VCALENDAR