BEGIN:VCALENDAR
VERSION:2.0
PRODID:-//SLV - ECPv5.11.0//NONSGML v1.0//EN
CALSCALE:GREGORIAN
METHOD:PUBLISH
X-WR-CALNAME:SLV
X-ORIGINAL-URL:https://slv.co.id
X-WR-CALDESC:Events for SLV
BEGIN:VTIMEZONE
TZID:Asia/Jakarta
BEGIN:STANDARD
TZOFFSETFROM:+0700
TZOFFSETTO:+0700
TZNAME:WIB
DTSTART:20260101T000000
END:STANDARD
END:VTIMEZONE
BEGIN:VEVENT
DTSTART;TZID=Asia/Jakarta:20260420T190000
DTEND;TZID=Asia/Jakarta:20260425T220000
DTSTAMP:20260422T163551
CREATED:20211129T110059Z
LAST-MODIFIED:20260416T072928Z
UID:15894-1776711600-1777154400@slv.co.id
SUMMARY:Storage Tank Indonesia
DESCRIPTION:Pelatihan ini ditujukan bagi para teknisi\, operator dan staf maintenance pada pekerjaan tangki timbun (storage tank) yang telah berpengalaman.
URL:https://slv.co.id/jadwal/storage-tank/2026-04-20/
LOCATION:Online
CATEGORIES:Analisis & Uji Teknis,BNSP,SLV
ATTACH;FMTTYPE=image/jpeg:https://slv.co.id/wp-content/uploads/2021/11/storage-tank-w1600.jpg
END:VEVENT
END:VCALENDAR